View In:
ArcGIS JavaScript
ArcGIS Online Map Viewer
ArcGIS Earth
ArcMap
View Footprint In:
ArcGIS Online Map Viewer
Service Description: Heat_Maps/DistressHeatMap_PointToRaster
Name: Heat_Maps/DistressHeatMap_PointToRaster
Description:
Single Fused Map Cache: false
Extent:
XMin: -94.90044425299993
YMin: 38.97181732400008
XMax: -94.70492425299993
YMax: 39.052777324000076
Spatial Reference: 4326
(4326)
Initial Extent:
XMin: -94.90044425299993
YMin: 38.97181732400008
XMax: -94.70492425299993
YMax: 39.052777324000076
Spatial Reference: 4326
(4326)
Full Extent:
XMin: -94.90044425299993
YMin: 38.97181732400008
XMax: -94.70492425299993
YMax: 39.052777324000076
Spatial Reference: 4326
(4326)
Pixel Size X: 3.200000000000031E-4
Pixel Size Y: 3.1999999999999005E-4
Band Count: 1
Pixel Type: S32
RasterFunction Infos: {"rasterFunctionInfos": [{
"name": "None",
"description": "",
"help": ""
}]}
Mensuration Capabilities: Basic
Has Histograms: true
Has Colormap: false
Has Multi Dimensions : false
Rendering Rule:
Min Scale: 0
Max Scale: 0
Copyright Text:
Service Data Type: esriImageServiceDataTypeGeneric
Min Values: 1
Max Values: 14616
Mean Values: 17.23290261582099
Standard Deviation Values: 168.09704343818711
Object ID Field:
Fields:
None
Default Mosaic Method: Center
Allowed Mosaic Methods:
SortField:
SortValue: null
Mosaic Operator: First
Default Compression Quality: 75
Default Resampling Method: Bilinear
Max Record Count: null
Max Image Height: 4100
Max Image Width: 15000
Max Download Image Count: null
Max Mosaic Image Count: null
Allow Raster Function: true
Allow Copy: true
Allow Analysis: true
Allow Compute TiePoints: false
Supports Statistics: false
Supports Advanced Queries: false
Use StandardizedQueries: true
Raster Type Infos:
Name: Raster Dataset
Description: Supports all ArcGIS Raster Datasets
Help:
Has Raster Attribute Table: true
Edit Fields Info: null
Ownership Based AccessControl For Rasters: null
Child Resources:
Info
Raster Attribute Table
Histograms
Statistics
Key Properties
Legend
Raster Function Infos
Supported Operations:
Export Image
Identify
Measure
Compute Histograms
Compute Statistics Histograms
Get Samples
Compute Class Statistics
Query Boundary
Compute Pixel Location
Compute Angles
Validate
Project